BEGIN:VCALENDAR
VERSION:2.0
PRODID:-//Eventin//Event Calendar//EN
CALSCALE:GREGORIAN
METHOD:PUBLISH
BEGIN:VEVENT
UID:0ee61c4d554bf947f7d56d358f62ecdf@roc.ph
SUMMARY:🔒 WhatsApp Security &amp\; Privacy: Protecting Your Data &amp\; 
 Business Conversations
DESCRIPTION:🚀 FREE WEBINAR ALERT! 🚀\n📢 🔒 WhatsApp Security & Pr
 ivacy: Protecting Your Data & Business Conversations\n📅 Date: May 20\, 2
 025⏰ Time: 11:00 AM – 12:00 PM📍 Where: Google Meet (Link will be sen
 t after registration)\n💡 FREE Admission with an option to get a certific
 ate:🎓 Students: ₱50 | 💼 Professionals/Business Owners: ₱100\n🔥
  What You’ll Learn:✅ How WhatsApp handles data encryption and privacy
 ✅ Security settings you must enable right now✅ Preventing phishing\, ha
 cking\, and impersonation attacks✅ Best practices for managing sensitive 
 business chats✅ Tools and habits to protect your digital identity\n🎯 W
 ho Should Attend?🔹 Business owners and online sellers🔹 Professionals 
 using WhatsApp for work🔹 Digital marketers and customer service teams
 🔹 Anyone concerned about personal or business data privacy\n📌 Registe
 r Now and Safeguard Your Communication!🔗 Registration Link: https://roc.
 ph/event/🔒-whatsapp-security-privacy-protecting-your-data-business-conve
 rsations/\n🎥 Missed the Live Session? Get the Recording + E-Certificate!
 Students: ₱100 | Professionals & Business Owners: ₱150📌 Get the Reco
 rded Webinar: https://roc.ph/service/🔒-whatsapp-security-privacy-protect
 ing-your-data-business-conversations/\n💡 Special Offer: If you attended 
 the live webinar\, upgrade to the recording + e-certificate for just ₱50 
 more! 🎉🔗 https://roc.ph/services/webinars/\n📍 Stay Updated on More
  Free Webinars!👉 Upcoming Webinars: https://roc.ph/events👉 Recorded W
 ebinars: https://roc.ph/digital-services/webinars/👉 Webinar Policy: http
 s://roc.ph/policy/webinar/\n🔔 Limited slots available! Reserve your seat
  now. 🖥️🔥\n#FreeWebinar #WhatsAppSecurity #DataPrivacy #BusinessCha
 ts #SecureCommunication #CyberSafety #RocPH
LOCATION:Online
DTSTAMP:20260421T082308Z
DTSTART:20260420T160000Z
DTEND:20260420T160000Z
END:VEVENT
END:VCALENDAR
