BEGIN:VCALENDAR
VERSION:2.0
PRODID:-//Eventin//Event Calendar//EN
CALSCALE:GREGORIAN
METHOD:PUBLISH
BEGIN:VEVENT
UID:f0d72c47916f8d32574f20fbd353abba@roc.ph
SUMMARY:The Psychology of Colors and Fonts in Branding
DESCRIPTION:🎨 The Psychology of Colors and Fonts in Branding\n📅 Date:
  August 1\, 2025⏰ Time: 5:30 PM – 6:30 PM📍 Where: Google Meet (link 
 will be provided after registration)\n🎯 Who Should Join:🔹 Small busin
 ess owners🔹 Graphic designers & branding specialists🔹 Social media ma
 nagers🔹 Students and freelancers🔹 Anyone building a personal or busin
 ess brand\n🧠 What You’ll Learn:✅ How colors influence customer perce
 ption✅ The emotion and psychology behind typography✅ Choosing the right
  combinations for your brand✅ Tips to improve visual consistency across p
 latforms✅ Real-world brand examples and breakdowns\n💸 Admission Fees w
 ith e-certificate:🎓 Students – ₱100💼 Professionals – ₱200\n
 📝 Register now:🔗 Event Page\n🎥 Missed the session?Get the recordin
 g + e-certificate here for:Students/PWD/Senior Citizens: Php. 150Profession
 als/Business Owners: Php. 300Through this link: https://roc.ph/service/the
 -psychology-of-colors-and-fonts-in-branding-5/\n💡 Special Offer:🔗 htt
 ps://roc.ph/services/webinars/\n📍 Stay in the Loop:👉 Upcoming Webinar
 s: https://roc.ph/events👉 Recorded Webinars: https://roc.ph/digital-serv
 ices/webinars/👉 Webinar Policy: https://roc.ph/policy/webinar/\n🔔 Lim
 ited slots — reserve your seat now! 🚀#BrandingStrategy #ColorTheory #C
 onsumerPsychology #DesignPsychology #DigitalBranding #Marketing Design #Roc
 PH #TypographyDesign #VisualIdentity
LOCATION:Online
DTSTAMP:20260423T063651Z
DTSTART:20260422T160000Z
DTEND:20260422T160000Z
END:VEVENT
END:VCALENDAR
